BEGIN:VCALENDAR
VERSION:2.0
PRODID:SchoolNow
CALSCALE:GREGORIAN
BEGIN:VEVENT
UID:4db73780-221a-11f1-8a11-0a58a9feac02
DTSTAMP:20260419T144510Z
SUMMARY:EPB - PTA Meeting
URL;VALUE=URI:https://www.sau10.nh.gov/calendar/8925600/epb-pta-meeting
DTSTART:20270603T230000Z
DTEND:20270604T000000Z
END:VEVENT
END:VCALENDAR
