BEGIN:VCALENDAR
VERSION:2.0
PRODID:SchoolNow
CALSCALE:GREGORIAN
BEGIN:VEVENT
UID:83553e5c-3901-11f1-8c22-0ee6b9c15b73
DTSTAMP:20260419T084008Z
SUMMARY:WRB Mural Presentation
URL;VALUE=URI:https://www.sau10.nh.gov/calendar/8996507/wrb-mural-presentat
 ion
DTSTART:20260507T220000Z
DTEND:20260507T230000Z
END:VEVENT
END:VCALENDAR
