BEGIN:VCALENDAR
VERSION:2.0
PRODID:SchoolNow
CALSCALE:GREGORIAN
BEGIN:VEVENT
UID:066ec554-925b-11f0-a966-0a58a9feac02
DTSTAMP:20251121T133510Z
SUMMARY:Jazz Band
URL;VALUE=URI:https://www.sau10.nh.gov/schools/ghh/calendar/8624783/jazz-ba
 nd
DTSTART:20260302T190000Z
DTEND:20260302T200000Z
END:VEVENT
END:VCALENDAR
