BEGIN:VCALENDAR
VERSION:2.0
PRODID:SchoolNow
CALSCALE:GREGORIAN
BEGIN:VEVENT
UID:d3d9ca88-0b57-11f0-a067-0a58a9feac02
DTSTAMP:20251121T133509Z
SUMMARY:Gr. 5 to Camp Carpenter
URL;VALUE=URI:https://www.sau10.nh.gov/schools/wrb/calendar/7789696/gr-5-to
 -camp-carpenter
DTSTART;VALUE=DATE:20250828
DTEND;VALUE=DATE:20250829
END:VEVENT
END:VCALENDAR
