BEGIN:VCALENDAR
VERSION:2.0
PRODID:SchoolNow
CALSCALE:GREGORIAN
BEGIN:VEVENT
UID:88721618-0f53-11f0-a5f3-02cba44089a7
DTSTAMP:20251121T133510Z
SUMMARY:WRB Back to School Bash
URL;VALUE=URI:https://www.sau10.nh.gov/schools/wrb/calendar/7829284/wrb-bac
 k-to-school-bash
DTSTART:20250912T220000Z
DTEND:20250913T000000Z
END:VEVENT
END:VCALENDAR
