BEGIN:VCALENDAR
VERSION:2.0
PRODID:SchoolNow
CALSCALE:GREGORIAN
BEGIN:VEVENT
UID:9862f806-40ec-11f0-bd15-0affd33f3b17
DTSTAMP:20251121T133509Z
SUMMARY:WRB PTSA Meeting
URL;VALUE=URI:https://www.sau10.nh.gov/schools/wrb/calendar/8249885/wrb-pts
 a-meeting
DTSTART:20250903T220000Z
DTEND:20250904T000000Z
END:VEVENT
END:VCALENDAR
