BEGIN:VCALENDAR
VERSION:2.0
PRODID:SchoolNow
CALSCALE:GREGORIAN
BEGIN:VEVENT
UID:f1e62bda-6196-11f0-9c0a-0a58a9feac02
DTSTAMP:20251121T133510Z
SUMMARY:WRB Grade 5  Parent Info Night
URL;VALUE=URI:https://www.sau10.nh.gov/schools/wrb/calendar/8417257/wrb-gra
 de-5-parent-info-night
DTSTART:20250916T220000Z
DTEND:20250916T233000Z
END:VEVENT
END:VCALENDAR
