BEGIN:VCALENDAR
VERSION:2.0
PRODID:SchoolNow
CALSCALE:GREGORIAN
BEGIN:VEVENT
UID:f1e62f0e-6196-11f0-bf07-0a58a9feac02
DTSTAMP:20251121T133510Z
SUMMARY:WRB Grade 6 Open House
URL;VALUE=URI:https://www.sau10.nh.gov/schools/wrb/calendar/8417258/wrb-gra
 de-6-open-house
DTSTART:20250917T220000Z
DTEND:20250917T233000Z
END:VEVENT
END:VCALENDAR
