BEGIN:VCALENDAR
VERSION:2.0
PRODID:SchoolNow
CALSCALE:GREGORIAN
BEGIN:VEVENT
UID:f1e63044-6196-11f0-aa62-0a58a9feac02
DTSTAMP:20251121T133509Z
SUMMARY:Meet and Greet 5th Grade 10:00-10:45 6th Grade 11:00-11:45
URL;VALUE=URI:https://www.sau10.nh.gov/schools/wrb/calendar/8417259/meet-an
 d-greet-5th-grade-10-00-10-45-6th-grade-11-00-11-45
DTSTART:20250822T140000Z
DTEND:20250822T160000Z
END:VEVENT
END:VCALENDAR
