BEGIN:VCALENDAR
VERSION:2.0
PRODID:SchoolNow
CALSCALE:GREGORIAN
BEGIN:VEVENT
UID:e3a399a8-76e6-11f0-8a42-0a58a9feac02
DTSTAMP:20251121T133509Z
SUMMARY:Early Release Day
URL;VALUE=URI:https://www.sau10.nh.gov/schools/wrb/calendar/8491575/early-r
 elease-day
DTSTART;VALUE=DATE:20251022
DTEND;VALUE=DATE:20251023
END:VEVENT
END:VCALENDAR
