BEGIN:VCALENDAR
VERSION:2.0
PRODID:SchoolNow
CALSCALE:GREGORIAN
BEGIN:VEVENT
UID:e3a39be2-76e6-11f0-a9f6-0a58a9feac02
DTSTAMP:20251121T133510Z
SUMMARY:Early Release Day
URL;VALUE=URI:https://www.sau10.nh.gov/schools/wrb/calendar/8491577/early-r
 elease-day
DTSTART;VALUE=DATE:20260210
DTEND;VALUE=DATE:20260211
END:VEVENT
END:VCALENDAR
