BEGIN:VCALENDAR
VERSION:2.0
PRODID:SchoolNow
CALSCALE:GREGORIAN
BEGIN:VEVENT
UID:e3a39cc8-76e6-11f0-ac5f-0a58a9feac02
DTSTAMP:20251121T133509Z
SUMMARY:Early Release Day
URL;VALUE=URI:https://www.sau10.nh.gov/schools/wrb/calendar/8491578/early-r
 elease-day
DTSTART;VALUE=DATE:20260519
DTEND;VALUE=DATE:20260520
END:VEVENT
END:VCALENDAR
