BEGIN:VCALENDAR
VERSION:2.0
PRODID:SchoolNow
CALSCALE:GREGORIAN
BEGIN:VEVENT
UID:e3a39dae-76e6-11f0-8fde-0a58a9feac02
DTSTAMP:20251121T133509Z
SUMMARY:Tentative Last Day of School/Early Release Day
URL;VALUE=URI:https://www.sau10.nh.gov/schools/wrb/calendar/8491579/tentati
 ve-last-day-of-school-early-release-day
DTSTART;VALUE=DATE:20260616
DTEND;VALUE=DATE:20260617
END:VEVENT
END:VCALENDAR
