BEGIN:VCALENDAR
VERSION:2.0
PRODID:SchoolNow
CALSCALE:GREGORIAN
BEGIN:VEVENT
UID:e3a39e94-76e6-11f0-b5a4-0a58a9feac02
DTSTAMP:20251121T133510Z
SUMMARY:Teacher Workshop Day
URL;VALUE=URI:https://www.sau10.nh.gov/schools/wrb/calendar/8491580/teacher
 -workshop-day
DTSTART;VALUE=DATE:20250821
DTEND;VALUE=DATE:20250822
END:VEVENT
END:VCALENDAR
