BEGIN:VCALENDAR
VERSION:2.0
PRODID:SchoolNow
CALSCALE:GREGORIAN
BEGIN:VEVENT
UID:e3a3a006-76e6-11f0-b677-0a58a9feac02
DTSTAMP:20251121T133509Z
SUMMARY:Teacher Workshop Day
URL;VALUE=URI:https://www.sau10.nh.gov/schools/wrb/calendar/8491581/teacher
 -workshop-day
DTSTART;VALUE=DATE:20250822
DTEND;VALUE=DATE:20250823
END:VEVENT
END:VCALENDAR
