BEGIN:VCALENDAR
VERSION:2.0
PRODID:SchoolNow
CALSCALE:GREGORIAN
BEGIN:VEVENT
UID:e3a3a1dc-76e6-11f0-94a9-0a58a9feac02
DTSTAMP:20251121T133510Z
SUMMARY:No School - Teacher Workshop Day/Family-Teacher Conferences
URL;VALUE=URI:https://www.sau10.nh.gov/schools/wrb/calendar/8491583/no-scho
 ol-teacher-workshop-day-family-teacher-conferences
DTSTART;VALUE=DATE:20251110
DTEND;VALUE=DATE:20251111
END:VEVENT
END:VCALENDAR
