BEGIN:VCALENDAR
VERSION:2.0
PRODID:SchoolNow
CALSCALE:GREGORIAN
BEGIN:VEVENT
UID:e3a3a2b8-76e6-11f0-abe1-0a58a9feac02
DTSTAMP:20251121T133510Z
SUMMARY:Teacher Workshop Day
URL;VALUE=URI:https://www.sau10.nh.gov/schools/wrb/calendar/8491584/teacher
 -workshop-day
DTSTART;VALUE=DATE:20260310
DTEND;VALUE=DATE:20260311
END:VEVENT
END:VCALENDAR
