BEGIN:VCALENDAR
VERSION:2.0
PRODID:SchoolNow
CALSCALE:GREGORIAN
BEGIN:VEVENT
UID:d965f0e0-77b2-11f0-a372-0a58a9feac02
DTSTAMP:20251121T133509Z
SUMMARY:WRB Student Picture Day
URL;VALUE=URI:https://www.sau10.nh.gov/schools/wrb/calendar/8495503/wrb-stu
 dent-picture-day
DTSTART;VALUE=DATE:20250919
DTEND;VALUE=DATE:20250920
END:VEVENT
END:VCALENDAR
