BEGIN:VCALENDAR
VERSION:2.0
PRODID:SchoolNow
CALSCALE:GREGORIAN
BEGIN:VEVENT
UID:d965f3f6-77b2-11f0-b605-0a58a9feac02
DTSTAMP:20251121T133509Z
SUMMARY:Veterans Day Breakfast
URL;VALUE=URI:https://www.sau10.nh.gov/schools/wrb/calendar/8495504/veteran
 s-day-breakfast
DTSTART;VALUE=DATE:20251107
DTEND;VALUE=DATE:20251108
END:VEVENT
END:VCALENDAR
