BEGIN:VCALENDAR
VERSION:2.0
PRODID:SchoolNow
CALSCALE:GREGORIAN
BEGIN:VEVENT
UID:cd95db78-787e-11f0-b136-0a58a9feac02
DTSTAMP:20251121T133509Z
SUMMARY:No School - Labor Day
URL;VALUE=URI:https://www.sau10.nh.gov/schools/wrb/calendar/8505879/no-scho
 ol-labor-day
DTSTART;VALUE=DATE:20250901
DTEND;VALUE=DATE:20250902
END:VEVENT
END:VCALENDAR
