BEGIN:VCALENDAR
VERSION:2.0
PRODID:SchoolNow
CALSCALE:GREGORIAN
BEGIN:VEVENT
UID:9ffa4402-7c47-11f0-9900-0a58a9feac02
DTSTAMP:20251121T133509Z
SUMMARY:WRB PTSA Meeting
URL;VALUE=URI:https://www.sau10.nh.gov/schools/wrb/calendar/8518596/wrb-pts
 a-meeting
DTSTART:20251104T230000Z
DTEND:20251105T010000Z
END:VEVENT
END:VCALENDAR
