BEGIN:VCALENDAR
VERSION:2.0
PRODID:SchoolNow
CALSCALE:GREGORIAN
BEGIN:VEVENT
UID:9ffa46dc-7c47-11f0-8292-0a58a9feac02
DTSTAMP:20251121T133509Z
SUMMARY:WRB PTSA Meeting
URL;VALUE=URI:https://www.sau10.nh.gov/schools/wrb/calendar/8518598/wrb-pts
 a-meeting
DTSTART:20260106T230000Z
DTEND:20260107T010000Z
END:VEVENT
END:VCALENDAR
