BEGIN:VCALENDAR
VERSION:2.0
PRODID:SchoolNow
CALSCALE:GREGORIAN
BEGIN:VEVENT
UID:9ffa47ea-7c47-11f0-94b7-0a58a9feac02
DTSTAMP:20251121T133509Z
SUMMARY:WRB PTSA Meeting
URL;VALUE=URI:https://www.sau10.nh.gov/schools/wrb/calendar/8518599/wrb-pts
 a-meeting
DTSTART:20260203T230000Z
DTEND:20260204T010000Z
END:VEVENT
END:VCALENDAR
