BEGIN:VCALENDAR
VERSION:2.0
PRODID:SchoolNow
CALSCALE:GREGORIAN
BEGIN:VEVENT
UID:9ffa49de-7c47-11f0-bad0-0a58a9feac02
DTSTAMP:20251121T133510Z
SUMMARY:WRB PTSA Meeting
URL;VALUE=URI:https://www.sau10.nh.gov/schools/wrb/calendar/8518601/wrb-pts
 a-meeting
DTSTART:20260407T220000Z
DTEND:20260408T000000Z
END:VEVENT
END:VCALENDAR
