BEGIN:VCALENDAR
VERSION:2.0
PRODID:SchoolNow
CALSCALE:GREGORIAN
BEGIN:VEVENT
UID:9ffa4aec-7c47-11f0-9b30-0a58a9feac02
DTSTAMP:20251121T133509Z
SUMMARY:WRB PTSA Meeting
URL;VALUE=URI:https://www.sau10.nh.gov/schools/wrb/calendar/8518602/wrb-pts
 a-meeting
DTSTART:20260505T220000Z
DTEND:20260506T000000Z
END:VEVENT
END:VCALENDAR
