BEGIN:VCALENDAR
VERSION:2.0
PRODID:SchoolNow
CALSCALE:GREGORIAN
BEGIN:VEVENT
UID:9ffa4bfa-7c47-11f0-9f0a-0a58a9feac02
DTSTAMP:20251121T133509Z
SUMMARY:WRB PTSA Meeting
URL;VALUE=URI:https://www.sau10.nh.gov/schools/wrb/calendar/8518603/wrb-pts
 a-meeting
DTSTART:20260602T220000Z
DTEND:20260603T000000Z
END:VEVENT
END:VCALENDAR
