BEGIN:VCALENDAR
VERSION:2.0
PRODID:SchoolNow
CALSCALE:GREGORIAN
BEGIN:VEVENT
UID:9ffa4dc6-7c47-11f0-8633-0a58a9feac02
DTSTAMP:20251121T133510Z
SUMMARY:Popcorn Day
URL;VALUE=URI:https://www.sau10.nh.gov/schools/wrb/calendar/8518605/popcorn
 -day
DTSTART;VALUE=DATE:20250925
DTEND;VALUE=DATE:20250926
END:VEVENT
END:VCALENDAR
