BEGIN:VCALENDAR
VERSION:2.0
PRODID:SchoolNow
CALSCALE:GREGORIAN
BEGIN:VEVENT
UID:9ffa4eac-7c47-11f0-a957-0a58a9feac02
DTSTAMP:20251121T133509Z
SUMMARY:Popcorn Day
URL;VALUE=URI:https://www.sau10.nh.gov/schools/wrb/calendar/8518606/popcorn
 -day
DTSTART;VALUE=DATE:20251023
DTEND;VALUE=DATE:20251024
END:VEVENT
END:VCALENDAR
