BEGIN:VCALENDAR
VERSION:2.0
PRODID:SchoolNow
CALSCALE:GREGORIAN
BEGIN:VEVENT
UID:9ffa53fc-7c47-11f0-bfb2-0a58a9feac02
DTSTAMP:20251121T133509Z
SUMMARY:Popcorn Day
URL;VALUE=URI:https://www.sau10.nh.gov/schools/wrb/calendar/8518612/popcorn
 -day
DTSTART;VALUE=DATE:20260423
DTEND;VALUE=DATE:20260424
END:VEVENT
END:VCALENDAR
