BEGIN:VCALENDAR
VERSION:2.0
PRODID:SchoolNow
CALSCALE:GREGORIAN
BEGIN:VEVENT
UID:9ffa54d8-7c47-11f0-9354-0a58a9feac02
DTSTAMP:20251121T133509Z
SUMMARY:Popcorn Day
URL;VALUE=URI:https://www.sau10.nh.gov/schools/wrb/calendar/8518613/popcorn
 -day
DTSTART;VALUE=DATE:20260521
DTEND;VALUE=DATE:20260522
END:VEVENT
END:VCALENDAR
