BEGIN:VCALENDAR
VERSION:2.0
PRODID:SchoolNow
CALSCALE:GREGORIAN
BEGIN:VEVENT
UID:9ffa55be-7c47-11f0-9ec5-0a58a9feac02
DTSTAMP:20251121T133509Z
SUMMARY:Popcorn Day
URL;VALUE=URI:https://www.sau10.nh.gov/schools/wrb/calendar/8518614/popcorn
 -day
DTSTART;VALUE=DATE:20260604
DTEND;VALUE=DATE:20260605
END:VEVENT
END:VCALENDAR
