BEGIN:VCALENDAR
VERSION:2.0
PRODID:SchoolNow
CALSCALE:GREGORIAN
BEGIN:VEVENT
UID:9a4d83ce-7c7a-11f0-9172-0e9bf3371e65
DTSTAMP:20251121T133509Z
SUMMARY:6th Gr. Band & Chorus Concert
URL;VALUE=URI:https://www.sau10.nh.gov/schools/wrb/calendar/8519911/6th-gr-
 band-chorus-concert
DTSTART:20251120T233000Z
DTEND:20251121T010000Z
END:VEVENT
END:VCALENDAR
