BEGIN:VCALENDAR
VERSION:2.0
PRODID:SchoolNow
CALSCALE:GREGORIAN
BEGIN:VEVENT
UID:9a4d8b08-7c7a-11f0-98f6-0e9bf3371e65
DTSTAMP:20251121T133509Z
SUMMARY:Snow Date ~ 5th Gr. Band Concert
URL;VALUE=URI:https://www.sau10.nh.gov/schools/wrb/calendar/8519916/snow-da
 te-5th-gr-band-concert
DTSTART:20260121T233000Z
DTEND:20260122T010000Z
END:VEVENT
END:VCALENDAR
