BEGIN:VCALENDAR
VERSION:2.0
PRODID:SchoolNow
CALSCALE:GREGORIAN
BEGIN:VEVENT
UID:9a4d8bf8-7c7a-11f0-8ec5-0e9bf3371e65
DTSTAMP:20251121T133509Z
SUMMARY:NHMEA Large Group 6th Gr. Band & Chorus (TBD)
URL;VALUE=URI:https://www.sau10.nh.gov/schools/wrb/calendar/8519917/nhmea-l
 arge-group-6th-gr-band-chorus-tbd
DTSTART;VALUE=DATE:20260314
DTEND;VALUE=DATE:20260315
END:VEVENT
END:VCALENDAR
