BEGIN:VCALENDAR
VERSION:2.0
PRODID:SchoolNow
CALSCALE:GREGORIAN
BEGIN:VEVENT
UID:9a4d8cde-7c7a-11f0-a65b-0e9bf3371e65
DTSTAMP:20251121T133509Z
SUMMARY:5th Gr. Band & Chorus
URL;VALUE=URI:https://www.sau10.nh.gov/schools/wrb/calendar/8519918/5th-gr-
 band-chorus
DTSTART;VALUE=DATE:20260528
DTEND;VALUE=DATE:20260529
END:VEVENT
END:VCALENDAR
