BEGIN:VCALENDAR
VERSION:2.0
PRODID:SchoolNow
CALSCALE:GREGORIAN
BEGIN:VEVENT
UID:9a4d8dce-7c7a-11f0-a5ab-0e9bf3371e65
DTSTAMP:20251121T133509Z
SUMMARY:6th Gr. Band & Chorus
URL;VALUE=URI:https://www.sau10.nh.gov/schools/wrb/calendar/8519919/6th-gr-
 band-chorus
DTSTART;VALUE=DATE:20260528
DTEND;VALUE=DATE:20260529
END:VEVENT
END:VCALENDAR
