BEGIN:VCALENDAR
VERSION:2.0
PRODID:SchoolNow
CALSCALE:GREGORIAN
BEGIN:VEVENT
UID:9a4d8eaa-7c7a-11f0-bcd2-0e9bf3371e65
DTSTAMP:20251121T133509Z
SUMMARY:Snow Date 6th Gr. Band & Chorus Concert
URL;VALUE=URI:https://www.sau10.nh.gov/schools/wrb/calendar/8519920/snow-da
 te-6th-gr-band-chorus-concert
DTSTART:20251121T233000Z
DTEND:20251122T010000Z
END:VEVENT
END:VCALENDAR
