BEGIN:VCALENDAR
VERSION:2.0
PRODID:SchoolNow
CALSCALE:GREGORIAN
BEGIN:VEVENT
UID:fd124fc0-88d3-11f0-9d4a-0a58a9feac02
DTSTAMP:20251121T133510Z
SUMMARY:WRB Student Picture Day
URL;VALUE=URI:https://www.sau10.nh.gov/schools/wrb/calendar/8574870/wrb-stu
 dent-picture-day
DTSTART;VALUE=DATE:20260918
DTEND;VALUE=DATE:20260919
END:VEVENT
END:VCALENDAR
