BEGIN:VCALENDAR
VERSION:2.0
PRODID:SchoolNow
CALSCALE:GREGORIAN
BEGIN:VEVENT
UID:fd1253e4-88d3-11f0-826c-0a58a9feac02
DTSTAMP:20251121T133510Z
SUMMARY:WRB (Retakes) Student Picture Day
URL;VALUE=URI:https://www.sau10.nh.gov/schools/wrb/calendar/8574871/wrb-ret
 akes-student-picture-day
DTSTART;VALUE=DATE:20261104
DTEND;VALUE=DATE:20261105
END:VEVENT
END:VCALENDAR
