BEGIN:VCALENDAR
VERSION:2.0
PRODID:SchoolNow
CALSCALE:GREGORIAN
BEGIN:VEVENT
UID:bde0ed58-8d9b-11f0-bb4a-0affc13de9ab
DTSTAMP:20251121T133509Z
SUMMARY:Gr. 5&6 Yearbook Club (147)
URL;VALUE=URI:https://www.sau10.nh.gov/schools/wrb/calendar/8601427/gr-5-6-
 yearbook-club-147
DTSTART:20250925T180000Z
DTEND:20250925T190000Z
END:VEVENT
END:VCALENDAR
