BEGIN:VCALENDAR
VERSION:2.0
PRODID:SchoolNow
CALSCALE:GREGORIAN
BEGIN:VEVENT
UID:bde0f190-8d9b-11f0-b41a-0affc13de9ab
DTSTAMP:20251121T133509Z
SUMMARY:Gr. 6 Yearbook Club (147)
URL;VALUE=URI:https://www.sau10.nh.gov/schools/wrb/calendar/8601428/gr-6-ye
 arbook-club-147
DTSTART:20251016T180000Z
DTEND:20251016T190000Z
END:VEVENT
END:VCALENDAR
