BEGIN:VCALENDAR
VERSION:2.0
PRODID:SchoolNow
CALSCALE:GREGORIAN
BEGIN:VEVENT
UID:bde0f5c8-8d9b-11f0-a05b-0affc13de9ab
DTSTAMP:20251121T133510Z
SUMMARY:Gr. 6 Yearbook Club (147)
URL;VALUE=URI:https://www.sau10.nh.gov/schools/wrb/calendar/8601432/gr-6-ye
 arbook-club-147
DTSTART:20260122T190000Z
DTEND:20260122T200000Z
END:VEVENT
END:VCALENDAR
