BEGIN:VCALENDAR
VERSION:2.0
PRODID:SchoolNow
CALSCALE:GREGORIAN
BEGIN:VEVENT
UID:bde0f992-8d9b-11f0-a525-0affc13de9ab
DTSTAMP:20251121T133509Z
SUMMARY:Gr. 6 Yearbook Club (147)
URL;VALUE=URI:https://www.sau10.nh.gov/schools/wrb/calendar/8601436/gr-6-ye
 arbook-club-147
DTSTART:20260409T180000Z
DTEND:20260409T190000Z
END:VEVENT
END:VCALENDAR
