BEGIN:VCALENDAR
VERSION:2.0
PRODID:SchoolNow
CALSCALE:GREGORIAN
BEGIN:VEVENT
UID:bde0fa82-8d9b-11f0-a301-0affc13de9ab
DTSTAMP:20251121T133509Z
SUMMARY:Gr. 5 Yearbook Club (147)
URL;VALUE=URI:https://www.sau10.nh.gov/schools/wrb/calendar/8601437/gr-5-ye
 arbook-club-147
DTSTART:20260423T180000Z
DTEND:20260423T190000Z
END:VEVENT
END:VCALENDAR
