BEGIN:VCALENDAR
VERSION:2.0
PRODID:SchoolNow
CALSCALE:GREGORIAN
BEGIN:VEVENT
UID:bde0fc62-8d9b-11f0-a108-0affc13de9ab
DTSTAMP:20251121T133509Z
SUMMARY:Gr. 5&6 Yearbook Club (147)
URL;VALUE=URI:https://www.sau10.nh.gov/schools/wrb/calendar/8601439/gr-5-6-
 yearbook-club-147
DTSTART:20260521T180000Z
DTEND:20260521T190000Z
END:VEVENT
END:VCALENDAR
