BEGIN:VCALENDAR
VERSION:2.0
PRODID:SchoolNow
CALSCALE:GREGORIAN
BEGIN:VEVENT
UID:bde0ff1e-8d9b-11f0-856b-0affc13de9ab
DTSTAMP:20251121T133509Z
SUMMARY:Kid's Care Club (144)
URL;VALUE=URI:https://www.sau10.nh.gov/schools/wrb/calendar/8601442/kids-ca
 re-club-144
DTSTART:20251020T180000Z
DTEND:20251020T190000Z
END:VEVENT
END:VCALENDAR
