BEGIN:VCALENDAR
VERSION:2.0
PRODID:SchoolNow
CALSCALE:GREGORIAN
BEGIN:VEVENT
UID:bde100fe-8d9b-11f0-89de-0affc13de9ab
DTSTAMP:20251121T133509Z
SUMMARY:Kid's Care Club (144)
URL;VALUE=URI:https://www.sau10.nh.gov/schools/wrb/calendar/8601444/kids-ca
 re-club-144
DTSTART:20260126T190000Z
DTEND:20260126T200000Z
END:VEVENT
END:VCALENDAR
