BEGIN:VCALENDAR
VERSION:2.0
PRODID:SchoolNow
CALSCALE:GREGORIAN
BEGIN:VEVENT
UID:bde101e4-8d9b-11f0-824f-0affc13de9ab
DTSTAMP:20251121T133509Z
SUMMARY:Kid's Care Club (144)
URL;VALUE=URI:https://www.sau10.nh.gov/schools/wrb/calendar/8601445/kids-ca
 re-club-144
DTSTART:20260413T180000Z
DTEND:20260413T190000Z
END:VEVENT
END:VCALENDAR
