BEGIN:VCALENDAR
VERSION:2.0
PRODID:SchoolNow
CALSCALE:GREGORIAN
BEGIN:VEVENT
UID:be071f00-8d9b-11f0-9932-0affc13de9ab
DTSTAMP:20251121T133510Z
SUMMARY:Kid's Care Club (144)
URL;VALUE=URI:https://www.sau10.nh.gov/schools/wrb/calendar/8601460/kids-ca
 re-club-144
DTSTART:20260309T180000Z
DTEND:20260309T190000Z
END:VEVENT
END:VCALENDAR
