BEGIN:VCALENDAR
VERSION:2.0
PRODID:SchoolNow
CALSCALE:GREGORIAN
BEGIN:VEVENT
UID:be072496-8d9b-11f0-9f4a-0affc13de9ab
DTSTAMP:20251121T133510Z
SUMMARY:Running Club
URL;VALUE=URI:https://www.sau10.nh.gov/schools/wrb/calendar/8601461/running
 -club
DTSTART:20250915T180000Z
DTEND:20250915T190000Z
END:VEVENT
END:VCALENDAR
